BEGIN:VCALENDAR
CALSCALE:GREGORIAN
METHOD:PUBLISH
PRODID:-//5.199.133.97//NONSGML iCalcreator 2.6//
VERSION:2.0
UNIQUE_ID:event1053@Йога секреты
X-WR-TIMEZONE:Asia/Baku
BEGIN:VEVENT
UID:event1053@Йога секреты
DTSTAMP:20260421T152717Z
CATEGORIES:Лекции
DESCRIPTION:Курс Московского Университета Йог
 и 'История и философия йоги\nТип события: 
 Лекции \nСсылка: https://yogasecrets.ru/index.php?option=com_e
 ventlist&view=details&id=1053:----q---&Itemid=117\n
DTSTART;TZID=Asia/Baku:20150412T140000
DTEND;TZID=Asia/Baku:20150704T190000
LOCATION:
SUMMARY:Курс Московского Университета Йоги '
 История и философия йоги
URL:https://yogasecrets.ru/index.php?option=com_eventlist&view=details&id=1
 053:----q---&Itemid=117
END:VEVENT
END:VCALENDAR
