BEGIN:VCALENDAR
CALSCALE:GREGORIAN
METHOD:PUBLISH
PRODID:-//5.199.133.97//NONSGML iCalcreator 2.6//
VERSION:2.0
UNIQUE_ID:event1081@Йога секреты
X-WR-TIMEZONE:Asia/Baku
BEGIN:VEVENT
UID:event1081@Йога секреты
DTSTAMP:20260421T152427Z
CATEGORIES:Лекции
DESCRIPTION:Презентация Йога-тура в Черногори
 \nТип события: Лекции \nСсылка: https://yogasecrets
 .ru/index.php?option=com_eventlist&view=details&id=1081:----&Itemid=117\n
DTSTART;TZID=Asia/Baku:20150416T200000
DTEND;TZID=Asia/Baku:20150416T203000
LOCATION: Школа Каула-йоги м. Тургеневская\,Ми
 лютинский пер.\, 15\,Москва\,Russian Federation
SUMMARY:Презентация Йога-тура в Черногорию
URL:https://yogasecrets.ru/index.php?option=com_eventlist&view=details&id=1
 081:----&Itemid=117
END:VEVENT
END:VCALENDAR
