BEGIN:VCALENDAR
CALSCALE:GREGORIAN
METHOD:PUBLISH
PRODID:-//5.199.133.97//NONSGML iCalcreator 2.6//
VERSION:2.0
UNIQUE_ID:event1090@Йога секреты
X-WR-TIMEZONE:Asia/Baku
BEGIN:VEVENT
UID:event1090@Йога секреты
DTSTAMP:20260421T152330Z
CATEGORIES:Лекции
DESCRIPTION:«Чакра Спурана»\, курс с учителем С
 адхашивой\nТип события: Лекции \nСсылка: ht
 tps://yogasecrets.ru/index.php?option=com_eventlist&view=details&id=1090:l
 -r----&Itemid=117\n
DTSTART;TZID=Asia/Baku:20150419T130000
DTEND;TZID=Asia/Baku:20150430T180000
LOCATION:Центр аюрведы и йоги 'Керала'\,Мичури
 нский проспект\,3\,Москва\,Russian Federation
SUMMARY:«Чакра Спурана»\, курс с учителем Сад
 хашивой
URL:https://yogasecrets.ru/index.php?option=com_eventlist&view=details&id=1
 090:l-r----&Itemid=117
END:VEVENT
END:VCALENDAR
