BEGIN:VCALENDAR
CALSCALE:GREGORIAN
METHOD:PUBLISH
PRODID:-//5.199.133.97//NONSGML iCalcreator 2.6//
VERSION:2.0
UNIQUE_ID:event1107@Йога секреты
X-WR-TIMEZONE:Asia/Baku
BEGIN:VEVENT
UID:event1107@Йога секреты
DTSTAMP:20260421T115909Z
CATEGORIES:Лекции
DESCRIPTION:Открытая лекция «Аллергия: лечени
  в аюрведе»\nТип события: Лекции \nСсылка:
  https://yogasecrets.ru/index.php?option=com_eventlist&view=details&id=110
 7:--l---r&Itemid=117\n
DTSTART;TZID=Asia/Baku:20150511T160000
DTEND;TZID=Asia/Baku:20150511T180000
LOCATION:Центр аюрведы и йоги 'Керала'\,Мичури
 нский проспект\,3\,Москва\,Russian Federation
SUMMARY:Открытая лекция «Аллергия: лечение в
  аюрведе»
URL:https://yogasecrets.ru/index.php?option=com_eventlist&view=details&id=1
 107:--l---r&Itemid=117
END:VEVENT
END:VCALENDAR
