BEGIN:VCALENDAR
CALSCALE:GREGORIAN
METHOD:PUBLISH
PRODID:-//5.199.133.97//NONSGML iCalcreator 2.6//
VERSION:2.0
UNIQUE_ID:event1111@Йога секреты
X-WR-TIMEZONE:Asia/Baku
BEGIN:VEVENT
UID:event1111@Йога секреты
DTSTAMP:20260421T121101Z
CATEGORIES:Лекции
DESCRIPTION:Основы пульсовой диагностики. Фун
 циональные возможности АПК\nТип события
 : Лекции \nСсылка: https://yogasecrets.ru/index.php?option=com
 _eventlist&view=details&id=1111:-----&Itemid=117\n
DTSTART;TZID=Asia/Baku:20150514T090000
DTEND;TZID=Asia/Baku:20150514T180000
LOCATION:Библиотека им.Волошина\,Новодевичий
  проезд\, 10\,Москва\,Russian Federation
SUMMARY:Основы пульсовой диагностики. Функц
 ональные возможности АПК
URL:https://yogasecrets.ru/index.php?option=com_eventlist&view=details&id=1
 111:-----&Itemid=117
END:VEVENT
END:VCALENDAR
