BEGIN:VCALENDAR
CALSCALE:GREGORIAN
METHOD:PUBLISH
PRODID:-//5.199.133.97//NONSGML iCalcreator 2.6//
VERSION:2.0
UNIQUE_ID:event1113@Йога секреты
X-WR-TIMEZONE:Asia/Baku
BEGIN:VEVENT
UID:event1113@Йога секреты
DTSTAMP:20260421T120005Z
CATEGORIES:Лекции
DESCRIPTION:Семинар Головинова А.Ю.: Āмавāта – 
 ревматоидный артрит.\nТип события: Лекци
  \nСсылка: https://yogasecrets.ru/index.php?option=com_eventlist&vi
 ew=details&id=1113:------&Itemid=117\n
DTSTART;TZID=Asia/Baku:20150606T100000
DTEND;TZID=Asia/Baku:20150607T170000
LOCATION:Библиотека им.Волошина\,Новодевичий
  проезд\, 10\,Москва\,Russian Federation
SUMMARY:Семинар Головинова А.Ю.: Āмавāта – ре
 вматоидный артрит.
URL:https://yogasecrets.ru/index.php?option=com_eventlist&view=details&id=1
 113:------&Itemid=117
END:VEVENT
END:VCALENDAR
