BEGIN:VCALENDAR
CALSCALE:GREGORIAN
METHOD:PUBLISH
PRODID:-//5.199.133.97//NONSGML iCalcreator 2.6//
VERSION:2.0
UNIQUE_ID:event1156@Йога секреты
X-WR-TIMEZONE:Asia/Baku
BEGIN:VEVENT
UID:event1156@Йога секреты
DTSTAMP:20260421T091028Z
CATEGORIES:Лекции
DESCRIPTION:Лекция: Луна. Лунные фазы. Гармониз
 ация с ритмами вселенной\nТип события: Ле
 кции \nСсылка: https://yogasecrets.ru/index.php?option=com_event
 list&view=details&id=1156:-------&Itemid=117\n
DTSTART;VALUE=DATE:20150614
DTEND;VALUE=DATE:20150615
LOCATION:Москва\,Russian Federation
SUMMARY:Лекция: Луна. Лунные фазы. Гармонизац
 ия с ритмами вселенной
URL:https://yogasecrets.ru/index.php?option=com_eventlist&view=details&id=1
 156:-------&Itemid=117
END:VEVENT
END:VCALENDAR
