BEGIN:VCALENDAR
CALSCALE:GREGORIAN
METHOD:PUBLISH
PRODID:-//5.199.133.97//NONSGML iCalcreator 2.6//
VERSION:2.0
UNIQUE_ID:event1162@Йога секреты
X-WR-TIMEZONE:Asia/Baku
BEGIN:VEVENT
UID:event1162@Йога секреты
DTSTAMP:20260421T090252Z
CATEGORIES:Лекции
DESCRIPTION:Лекция 'Нейроны и Нирвана\nТип собы
 тия: Лекции \nСсылка: https://yogasecrets.ru/index.php?opti
 on=com_eventlist&view=details&id=1162:-q--&Itemid=117\n
DTSTART;TZID=Asia/Baku:20150621T193000
DTEND;TZID=Asia/Baku:20150621T213000
LOCATION:Аштанга Йога Центр\,Гороховая\, 49\,Са
 кт-Петербург\,Russian Federation
SUMMARY:Лекция 'Нейроны и Нирвана
URL:https://yogasecrets.ru/index.php?option=com_eventlist&view=details&id=1
 162:-q--&Itemid=117
END:VEVENT
END:VCALENDAR
