BEGIN:VCALENDAR
CALSCALE:GREGORIAN
METHOD:PUBLISH
PRODID:-//5.199.133.97//NONSGML iCalcreator 2.6//
VERSION:2.0
UNIQUE_ID:event1163@Йога секреты
X-WR-TIMEZONE:Asia/Baku
BEGIN:VEVENT
UID:event1163@Йога секреты
DTSTAMP:20260421T090703Z
CATEGORIES:Лекции
DESCRIPTION:Лекция 'Дилемма йоги в сплетении В
 данты и Тантры'\nТип события: Лекции \nСсы
 лка: https://yogasecrets.ru/index.php?option=com_eventlist&view=details
 &id=1163:-q------q&Itemid=117\n
DTSTART;TZID=Asia/Baku:20150620T140000
DTEND;TZID=Asia/Baku:20150620T160000
LOCATION:Happy Yoga\,пр. Кима\,6\,Санкт-Петербург\,Russ
 ian Federation
SUMMARY:Лекция 'Дилемма йоги в сплетении Вед
 нты и Тантры'
URL:https://yogasecrets.ru/index.php?option=com_eventlist&view=details&id=1
 163:-q------q&Itemid=117
END:VEVENT
END:VCALENDAR
