BEGIN:VCALENDAR
CALSCALE:GREGORIAN
METHOD:PUBLISH
PRODID:-//5.199.133.97//NONSGML iCalcreator 2.6//
VERSION:2.0
UNIQUE_ID:event1170@Йога секреты
X-WR-TIMEZONE:Asia/Baku
BEGIN:VEVENT
UID:event1170@Йога секреты
DTSTAMP:20260421T023623Z
CATEGORIES:Лекции
DESCRIPTION:Тридоша-виджняна - учение о трёх до
 шах\, 1-я сессия\nТип события: Лекции \nСсыл
 ка: https://yogasecrets.ru/index.php?option=com_eventlist&view=details&i
 d=1170:------1--&Itemid=117\n
DTSTART;TZID=Asia/Baku:20150919T090000
DTEND;TZID=Asia/Baku:20150927T170000
LOCATION:Библиотека им.Волошина\,Новодевичий
  проезд\, 10\,Москва\,Russian Federation
SUMMARY:Тридоша-виджняна - учение о трёх доша
 х\, 1-я сессия
URL:https://yogasecrets.ru/index.php?option=com_eventlist&view=details&id=1
 170:------1--&Itemid=117
END:VEVENT
END:VCALENDAR
