BEGIN:VCALENDAR
CALSCALE:GREGORIAN
METHOD:PUBLISH
PRODID:-//5.199.133.97//NONSGML iCalcreator 2.6//
VERSION:2.0
UNIQUE_ID:event1225@Йога секреты
X-WR-TIMEZONE:Asia/Baku
BEGIN:VEVENT
UID:event1225@Йога секреты
DTSTAMP:20260421T054958Z
CATEGORIES:Лекции \, Курс обучения
DESCRIPTION:Курс «Мастер личности» I Уровень П
 и-модулей\nТип события: Лекции \, Курс обу
 чения\nСсылка: https://yogasecrets.ru/index.php?option=com_even
 tlist&view=details&id=1225:-l-r-i---&Itemid=117\n
DTSTART;TZID=Asia/Baku:20150801T200000
DTEND;TZID=Asia/Baku:20150829T223000
LOCATION:
SUMMARY:Курс «Мастер личности» I Уровень Пси-
 модулей
URL:https://yogasecrets.ru/index.php?option=com_eventlist&view=details&id=1
 225:-l-r-i---&Itemid=117
END:VEVENT
END:VCALENDAR
