BEGIN:VCALENDAR
CALSCALE:GREGORIAN
METHOD:PUBLISH
PRODID:-//5.199.133.97//NONSGML iCalcreator 2.6//
VERSION:2.0
UNIQUE_ID:event1226@Йога секреты
X-WR-TIMEZONE:Asia/Baku
BEGIN:VEVENT
UID:event1226@Йога секреты
DTSTAMP:20260421T055023Z
CATEGORIES:Лекции \, Курс обучения
DESCRIPTION:КУРС “БАЗОВЫЕ ПОНЯТИЯ О ТЕЛЕ ПРИ Р
 АБОТЕ С ЭНЕРГЕТИЧЕСКИМИ ПР\nТип события: 
 Лекции \, Курс обучения\nСсылка: https://yogasecre
 ts.ru/index.php?option=com_eventlist&view=details&id=1226:---------&Itemid
 =117\n
DTSTART;TZID=Asia/Baku:20150903T200000
DTEND;TZID=Asia/Baku:20150920T223000
LOCATION:
SUMMARY:КУРС “БАЗОВЫЕ ПОНЯТИЯ О ТЕЛЕ ПРИ РАБ
 ОТЕ С ЭНЕРГЕТИЧЕСКИМИ ПР
URL:https://yogasecrets.ru/index.php?option=com_eventlist&view=details&id=1
 226:---------&Itemid=117
END:VEVENT
END:VCALENDAR
