BEGIN:VCALENDAR
CALSCALE:GREGORIAN
METHOD:PUBLISH
PRODID:-//5.199.133.97//NONSGML iCalcreator 2.6//
VERSION:2.0
UNIQUE_ID:event1241@Йога секреты
X-WR-TIMEZONE:Asia/Baku
BEGIN:VEVENT
UID:event1241@Йога секреты
DTSTAMP:20260421T054022Z
CATEGORIES:Лекции
DESCRIPTION:Five for Life - Жизнь на 5 с плюсом!\nТип со
 бытия: Лекции \nСсылка: https://yogasecrets.ru/index.php?
 option=com_eventlist&view=details&id=1241:five-for-life---5--&Itemid=117\n
DTSTART;TZID=Asia/Baku:20150815T120000
DTEND;TZID=Asia/Baku:20150815T140000
LOCATION:Студия 'Воздух'\,3-й Самотёчный переу
 ок\, д. 11\, стр. 1\,Москва\,Russian Federation
SUMMARY:Five for Life - Жизнь на 5 с плюсом!
URL:https://yogasecrets.ru/index.php?option=com_eventlist&view=details&id=1
 241:five-for-life---5--&Itemid=117
END:VEVENT
END:VCALENDAR
