BEGIN:VCALENDAR
CALSCALE:GREGORIAN
METHOD:PUBLISH
PRODID:-//5.199.133.97//NONSGML iCalcreator 2.6//
VERSION:2.0
UNIQUE_ID:event1267@Йога секреты
X-WR-TIMEZONE:Asia/Baku
BEGIN:VEVENT
UID:event1267@Йога секреты
DTSTAMP:20260421T023428Z
CATEGORIES:Лекции
DESCRIPTION:Презентация Йога-ретрита в Индию 20
 16\nТип события: Лекции \nСсылка: https://yogasecret
 s.ru/index.php?option=com_eventlist&view=details&id=1267:-----2016&Itemid=
 117\n
DTSTART;TZID=Asia/Baku:20150913T174500
DTEND;TZID=Asia/Baku:20150913T183000
LOCATION: Школа Каула-йоги м. Тургеневская\,Ми
 лютинский пер.\, 15\,Москва\,Russian Federation
SUMMARY:Презентация Йога-ретрита в Индию 2016
URL:https://yogasecrets.ru/index.php?option=com_eventlist&view=details&id=1
 267:-----2016&Itemid=117
END:VEVENT
END:VCALENDAR
