BEGIN:VCALENDAR
CALSCALE:GREGORIAN
METHOD:PUBLISH
PRODID:-//5.199.133.97//NONSGML iCalcreator 2.6//
VERSION:2.0
UNIQUE_ID:event1386@Йога секреты
X-WR-TIMEZONE:Asia/Baku
BEGIN:VEVENT
UID:event1386@Йога секреты
DTSTAMP:20260421T231235Z
CATEGORIES:Лекции
DESCRIPTION:«Использование специй в аюрведе. А
 птека на вашей кухне»\, лек\nТип события: 
 екции \nСсылка: https://yogasecrets.ru/index.php?option=com_ev
 entlist&view=details&id=1386:l-------r-&Itemid=117\n
DTSTART;TZID=Asia/Baku:20151025T130000
DTEND;TZID=Asia/Baku:20151025T143000
LOCATION:Центр аюрведы и йоги 'Керала'\,Мичури
 нский проспект\,3\,Москва\,Russian Federation
SUMMARY:«Использование специй в аюрведе. Апт
 ека на вашей кухне»\, лек
URL:https://yogasecrets.ru/index.php?option=com_eventlist&view=details&id=1
 386:l-------r-&Itemid=117
END:VEVENT
END:VCALENDAR
