BEGIN:VCALENDAR
CALSCALE:GREGORIAN
METHOD:PUBLISH
PRODID:-//5.199.133.97//NONSGML iCalcreator 2.6//
VERSION:2.0
UNIQUE_ID:event1392@Йога секреты
X-WR-TIMEZONE:Asia/Baku
BEGIN:VEVENT
UID:event1392@Йога секреты
DTSTAMP:20260421T231256Z
CATEGORIES:Лекции
DESCRIPTION:Бесплатная лекция по истории и тех
 нике марма-массажа\nТип события: Лекции \n
 Ссылка: https://yogasecrets.ru/index.php?option=com_eventlist&view=d
 etails&id=1392:-------&Itemid=117\n
DTSTART;TZID=Asia/Baku:20151122T130000
DTEND;TZID=Asia/Baku:20151122T143000
LOCATION:Центр аюрведы и йоги 'Керала'\,Мичури
 нский проспект\,3\,Москва\,Russian Federation
SUMMARY:Бесплатная лекция по истории и техни
 ке марма-массажа
URL:https://yogasecrets.ru/index.php?option=com_eventlist&view=details&id=1
 392:-------&Itemid=117
END:VEVENT
END:VCALENDAR
