BEGIN:VCALENDAR
CALSCALE:GREGORIAN
METHOD:PUBLISH
PRODID:-//5.199.133.97//NONSGML iCalcreator 2.6//
VERSION:2.0
UNIQUE_ID:event1395@Йога секреты
X-WR-TIMEZONE:Asia/Baku
BEGIN:VEVENT
UID:event1395@Йога секреты
DTSTAMP:20260420T174400Z
CATEGORIES:Лекции
DESCRIPTION:Курс Юлии Бакшеевой 'Аюрведическа
  косметология'\nТип события: Лекции \nСсы
 ка: https://yogasecrets.ru/index.php?option=com_eventlist&view=details&
 id=1395:---q-q&Itemid=117\n
DTSTART;TZID=Asia/Baku:20151202T183000
DTEND;TZID=Asia/Baku:20151206T213000
LOCATION:Библиотека им.Волошина\,Новодевичий
  проезд\, 10\,Москва\,Russian Federation
SUMMARY:Курс Юлии Бакшеевой 'Аюрведическая к
 осметология'
URL:https://yogasecrets.ru/index.php?option=com_eventlist&view=details&id=1
 395:---q-q&Itemid=117
END:VEVENT
END:VCALENDAR
