BEGIN:VCALENDAR
CALSCALE:GREGORIAN
METHOD:PUBLISH
PRODID:-//5.199.133.97//NONSGML iCalcreator 2.6//
VERSION:2.0
UNIQUE_ID:event1400@Йога секреты
X-WR-TIMEZONE:Asia/Baku
BEGIN:VEVENT
UID:event1400@Йога секреты
DTSTAMP:20260420T191440Z
CATEGORIES:Лекции
DESCRIPTION:Аюрведические секреты стройности\
 , лекция доктора аюрведы\nТип события: Ле
 ции \nСсылка: https://yogasecrets.ru/index.php?option=com_eventl
 ist&view=details&id=1400:-----&Itemid=117\n
DTSTART;TZID=Asia/Baku:20151101T130000
DTEND;TZID=Asia/Baku:20151101T143000
LOCATION:Центр аюрведы и йоги 'Керала'\,Мичури
 нский проспект\,3\,Москва\,Russian Federation
SUMMARY:Аюрведические секреты стройности\, л
 екция доктора аюрведы
URL:https://yogasecrets.ru/index.php?option=com_eventlist&view=details&id=1
 400:-----&Itemid=117
END:VEVENT
END:VCALENDAR
