BEGIN:VCALENDAR
CALSCALE:GREGORIAN
METHOD:PUBLISH
PRODID:-//5.199.133.97//NONSGML iCalcreator 2.6//
VERSION:2.0
UNIQUE_ID:event1445@Йога секреты
X-WR-TIMEZONE:Asia/Baku
BEGIN:VEVENT
UID:event1445@Йога секреты
DTSTAMP:20260420T191233Z
CATEGORIES:Лекции \, Курс обучения\, Практикум
DESCRIPTION:Медитация. Пути достижения. Семина
 р.\nТип события: Лекции \, Курс обучения\, П
 рактикум\nСсылка: https://yogasecrets.ru/index.php?option=co
 m_eventlist&view=details&id=1445:---&Itemid=117\n
DTSTART;VALUE=DATE:20151130
DTEND;VALUE=DATE:20151205
LOCATION:Москва\,Russian Federation
SUMMARY:Медитация. Пути достижения. Семинар.
URL:https://yogasecrets.ru/index.php?option=com_eventlist&view=details&id=1
 445:---&Itemid=117
END:VEVENT
END:VCALENDAR
