BEGIN:VCALENDAR
CALSCALE:GREGORIAN
METHOD:PUBLISH
PRODID:-//5.199.133.97//NONSGML iCalcreator 2.6//
VERSION:2.0
UNIQUE_ID:event1447@Йога секреты
X-WR-TIMEZONE:Asia/Baku
BEGIN:VEVENT
UID:event1447@Йога секреты
DTSTAMP:20260420T173123Z
CATEGORIES:Лекции
DESCRIPTION:Комфортный декабрь\, онлайн вэбина
 р\nТип события: Лекции \nСсылка: https://yogasecret
 s.ru/index.php?option=com_eventlist&view=details&id=1447:---&Itemid=117\n
DTSTART;TZID=Asia/Baku:20151205T200000
DTEND;TZID=Asia/Baku:20151205T213000
LOCATION:Online\,Online\,Москва\,Russian Federation
SUMMARY:Комфортный декабрь\, онлайн вэбинар
URL:https://yogasecrets.ru/index.php?option=com_eventlist&view=details&id=1
 447:---&Itemid=117
END:VEVENT
END:VCALENDAR
