BEGIN:VCALENDAR
CALSCALE:GREGORIAN
METHOD:PUBLISH
PRODID:-//5.199.133.97//NONSGML iCalcreator 2.6//
VERSION:2.0
UNIQUE_ID:event1451@Йога секреты
X-WR-TIMEZONE:Asia/Baku
BEGIN:VEVENT
UID:event1451@Йога секреты
DTSTAMP:20260420T161117Z
CATEGORIES:Лекции
DESCRIPTION:Лекция по аюрведе с элементами муз
 ыкотерапии\nТип события: Лекции \nСсылка: 
 https://yogasecrets.ru/index.php?option=com_eventlist&view=details&id=1451
 :-----&Itemid=117\n
DTSTART;TZID=Asia/Baku:20151213T130000
DTEND;TZID=Asia/Baku:20151213T143000
LOCATION:Центр аюрведы и йоги 'Керала'\,Мичури
 нский проспект\,3\,Москва\,Russian Federation
SUMMARY:Лекция по аюрведе с элементами музык
 отерапии
URL:https://yogasecrets.ru/index.php?option=com_eventlist&view=details&id=1
 451:-----&Itemid=117
END:VEVENT
END:VCALENDAR
