BEGIN:VCALENDAR
CALSCALE:GREGORIAN
METHOD:PUBLISH
PRODID:-//5.199.133.97//NONSGML iCalcreator 2.6//
VERSION:2.0
UNIQUE_ID:event1461@Йога секреты
X-WR-TIMEZONE:Asia/Baku
BEGIN:VEVENT
UID:event1461@Йога секреты
DTSTAMP:20260420T100620Z
CATEGORIES:Лекции \, Курс обучения
DESCRIPTION:Курс для преподавателей йоги (инте
 нсив 208 часов)\nТип события: Лекции \, Курс 
 обучения\nСсылка: https://yogasecrets.ru/index.php?option=co
 m_eventlist&view=details&id=1461:-----208-&Itemid=117\n
DTSTART;VALUE=DATE:20160326
DTEND;VALUE=DATE:20160327
LOCATION:Москва\,Russian Federation
SUMMARY:Курс для преподавателей йоги (интенс
 ив 208 часов)
URL:https://yogasecrets.ru/index.php?option=com_eventlist&view=details&id=1
 461:-----208-&Itemid=117
END:VEVENT
END:VCALENDAR
