BEGIN:VCALENDAR
CALSCALE:GREGORIAN
METHOD:PUBLISH
PRODID:-//5.199.133.97//NONSGML iCalcreator 2.6//
VERSION:2.0
UNIQUE_ID:event1468@Йога секреты
X-WR-TIMEZONE:Asia/Baku
BEGIN:VEVENT
UID:event1468@Йога секреты
DTSTAMP:20260420T161137Z
CATEGORIES:Лекции
DESCRIPTION:Онлайн вебинар 'Здоровый новогодн
 й сценарий'\nТип события: Лекции \nСсылка:
  https://yogasecrets.ru/index.php?option=com_eventlist&view=details&id=146
 8:--q--q&Itemid=117\n
DTSTART;TZID=Asia/Baku:20151219T200000
DTEND;TZID=Asia/Baku:20151219T220000
LOCATION:
SUMMARY:Онлайн вебинар 'Здоровый новогодний 
 сценарий'
URL:https://yogasecrets.ru/index.php?option=com_eventlist&view=details&id=1
 468:--q--q&Itemid=117
END:VEVENT
END:VCALENDAR
