BEGIN:VCALENDAR
CALSCALE:GREGORIAN
METHOD:PUBLISH
PRODID:-//5.199.133.97//NONSGML iCalcreator 2.6//
VERSION:2.0
UNIQUE_ID:event1491@Йога секреты
X-WR-TIMEZONE:Asia/Baku
BEGIN:VEVENT
UID:event1491@Йога секреты
DTSTAMP:20260420T161441Z
CATEGORIES:Лекции
DESCRIPTION:Бесплатная лекция о ведической ас
 рологии от индийского брах\nТип события:
  Лекции \nСсылка: https://yogasecrets.ru/index.php?option=com_
 eventlist&view=details&id=1491:-------&Itemid=117\n
DTSTART;TZID=Asia/Baku:20160117T130000
DTEND;TZID=Asia/Baku:20160117T140000
LOCATION:Центр аюрведы и йоги 'Керала'\,Мичури
 нский проспект\,3\,Москва\,Russian Federation
SUMMARY:Бесплатная лекция о ведической астр
 логии от индийского брах
URL:https://yogasecrets.ru/index.php?option=com_eventlist&view=details&id=1
 491:-------&Itemid=117
END:VEVENT
END:VCALENDAR
