BEGIN:VCALENDAR
CALSCALE:GREGORIAN
METHOD:PUBLISH
PRODID:-//5.199.133.97//NONSGML iCalcreator 2.6//
VERSION:2.0
UNIQUE_ID:event1495@Йога секреты
X-WR-TIMEZONE:Asia/Baku
BEGIN:VEVENT
UID:event1495@Йога секреты
DTSTAMP:20260420T131352Z
CATEGORIES:Курс обучения\, Лекции
DESCRIPTION:Годовая программа изучения йоги (10
 8 часов)\nТип события: Курс обучения\, Лекц
 ии \nСсылка: https://yogasecrets.ru/index.php?option=com_eventlist
 &view=details&id=1495:----108-&Itemid=117\n
DTSTART;VALUE=DATE:20160220
DTEND;VALUE=DATE:20160926
LOCATION:Москва\,Russian Federation
SUMMARY:Годовая программа изучения йоги (108 ч
 асов)
URL:https://yogasecrets.ru/index.php?option=com_eventlist&view=details&id=1
 495:----108-&Itemid=117
END:VEVENT
END:VCALENDAR
