BEGIN:VCALENDAR
CALSCALE:GREGORIAN
METHOD:PUBLISH
PRODID:-//5.199.133.97//NONSGML iCalcreator 2.6//
VERSION:2.0
UNIQUE_ID:event1517@Йога секреты
X-WR-TIMEZONE:Asia/Baku
BEGIN:VEVENT
UID:event1517@Йога секреты
DTSTAMP:20260420T131351Z
CATEGORIES:Лекции
DESCRIPTION:Курс Е.Е.Лесиовской 'Растения-анти
 ипоксанты'\nТип события: Лекции \nСсылка: 
 https://yogasecrets.ru/index.php?option=com_eventlist&view=details&id=1517
 :--q-q&Itemid=117\n
DTSTART;TZID=Asia/Baku:20160226T090000
DTEND;TZID=Asia/Baku:20160228T170000
LOCATION:Библиотека им.Волошина\,Новодевичий
  проезд\, 10\,Москва\,Russian Federation
SUMMARY:Курс Е.Е.Лесиовской 'Растения-антиги
 оксанты'
URL:https://yogasecrets.ru/index.php?option=com_eventlist&view=details&id=1
 517:--q-q&Itemid=117
END:VEVENT
END:VCALENDAR
