BEGIN:VCALENDAR
CALSCALE:GREGORIAN
METHOD:PUBLISH
PRODID:-//5.199.133.97//NONSGML iCalcreator 2.6//
VERSION:2.0
UNIQUE_ID:event1670@Йога секреты
X-WR-TIMEZONE:Asia/Baku
BEGIN:VEVENT
UID:event1670@Йога секреты
DTSTAMP:20260421T094649Z
CATEGORIES:Лекции \, Семинары\, Фестиваль\, Путе
 шествие
DESCRIPTION:Конференция оздоравливающих прак
 ик. Время новых открытий.\nТип события: Л
 кции \, Семинары\, Фестиваль\, Путешестви
 \nСсылка: https://yogasecrets.ru/index.php?option=com_eventlist&vie
 w=details&id=1670:-----&Itemid=117\n
DTSTART;VALUE=DATE:20160815
DTEND;VALUE=DATE:20160522
LOCATION:
SUMMARY:Конференция оздоравливающих практи
 . Время новых открытий.
URL:https://yogasecrets.ru/index.php?option=com_eventlist&view=details&id=1
 670:-----&Itemid=117
END:VEVENT
END:VCALENDAR
