BEGIN:VCALENDAR
CALSCALE:GREGORIAN
METHOD:PUBLISH
PRODID:-//5.199.133.97//NONSGML iCalcreator 2.6//
VERSION:2.0
UNIQUE_ID:event523@Йога секреты
X-WR-TIMEZONE:Asia/Baku
BEGIN:VEVENT
UID:event523@Йога секреты
DTSTAMP:20260421T082605Z
CATEGORIES:Лекции
DESCRIPTION:Методы йоги для эффективного упра
 ления стрессом\nТип события: Лекции \nСсы
 лка: https://yogasecrets.ru/index.php?option=com_eventlist&view=details
 &id=523:-----&Itemid=117\n
DTSTART;TZID=Asia/Baku:20131120T200000
DTEND;TZID=Asia/Baku:20131120T223000
LOCATION:Московский Университет йоги\,Russian Fede
 ration
SUMMARY:Методы йоги для эффективного управл
 ния стрессом
URL:https://yogasecrets.ru/index.php?option=com_eventlist&view=details&id=5
 23:-----&Itemid=117
END:VEVENT
END:VCALENDAR
