BEGIN:VCALENDAR
CALSCALE:GREGORIAN
METHOD:PUBLISH
PRODID:-//5.199.133.97//NONSGML iCalcreator 2.6//
VERSION:2.0
UNIQUE_ID:event536@Йога секреты
X-WR-TIMEZONE:Asia/Baku
BEGIN:VEVENT
UID:event536@Йога секреты
DTSTAMP:20260421T082558Z
CATEGORIES:Лекции
DESCRIPTION:РАСШИРЕНИЕ СОЗНАНИЯ\nТип события: 
 екции \nСсылка: https://yogasecrets.ru/index.php?option=com_ev
 entlist&view=details&id=536:-&Itemid=117\n
DTSTART;TZID=Asia/Baku:20131208T140000
DTEND;TZID=Asia/Baku:20131208T140000
LOCATION:Мастерская счастья\,пролетарский пр
 оспект\, д. 45\,Москва\,Russian Federation
SUMMARY:РАСШИРЕНИЕ СОЗНАНИЯ
URL:https://yogasecrets.ru/index.php?option=com_eventlist&view=details&id=5
 36:-&Itemid=117
END:VEVENT
END:VCALENDAR
