BEGIN:VCALENDAR
CALSCALE:GREGORIAN
METHOD:PUBLISH
PRODID:-//5.199.133.97//NONSGML iCalcreator 2.6//
VERSION:2.0
UNIQUE_ID:event595@Йога секреты
X-WR-TIMEZONE:Asia/Baku
BEGIN:VEVENT
UID:event595@Йога секреты
DTSTAMP:20260421T112943Z
CATEGORIES:Лекции
DESCRIPTION:Осознанное и здоровое питание в ус
 ловиях мегаполиса\nТип события: Лекции \n
 сылка: https://yogasecrets.ru/index.php?option=com_eventlist&view=de
 tails&id=595:------&Itemid=117\n
DTSTART;TZID=Asia/Baku:20140224T193000
DTEND;TZID=Asia/Baku:20140224T220000
LOCATION:
SUMMARY:Осознанное и здоровое питание в усло
 виях мегаполиса
URL:https://yogasecrets.ru/index.php?option=com_eventlist&view=details&id=5
 95:------&Itemid=117
END:VEVENT
END:VCALENDAR
