BEGIN:VCALENDAR
CALSCALE:GREGORIAN
METHOD:PUBLISH
PRODID:-//5.199.133.97//NONSGML iCalcreator 2.6//
VERSION:2.0
UNIQUE_ID:event596@Йога секреты
X-WR-TIMEZONE:Asia/Baku
BEGIN:VEVENT
UID:event596@Йога секреты
DTSTAMP:20260421T111259Z
CATEGORIES:Лекции
DESCRIPTION:Осознанное и здоровое питание в ус
 ловиях мегаполиса\nТип события: Лекции \n
 сылка: https://yogasecrets.ru/index.php?option=com_eventlist&view=de
 tails&id=596:------&Itemid=117\n
DTSTART;VALUE=DATE:20140226
DTEND;VALUE=DATE:20140227
LOCATION:
SUMMARY:Осознанное и здоровое питание в усло
 виях мегаполиса
URL:https://yogasecrets.ru/index.php?option=com_eventlist&view=details&id=5
 96:------&Itemid=117
END:VEVENT
END:VCALENDAR
