BEGIN:VCALENDAR
CALSCALE:GREGORIAN
METHOD:PUBLISH
PRODID:-//5.199.133.97//NONSGML iCalcreator 2.6//
VERSION:2.0
UNIQUE_ID:event606@Йога секреты
X-WR-TIMEZONE:Asia/Baku
BEGIN:VEVENT
UID:event606@Йога секреты
DTSTAMP:20260421T111259Z
CATEGORIES:Лекции
DESCRIPTION:«Углубленное изучение йоги»\, спец
 курс\nТип события: Лекции \nСсылка: https://yoga
 secrets.ru/index.php?option=com_eventlist&view=details&id=606:l--r-&Itemid
 =117\n
DTSTART;VALUE=DATE:20140302
DTEND;VALUE=DATE:20140707
LOCATION:
SUMMARY:«Углубленное изучение йоги»\, спецку
 рс
URL:https://yogasecrets.ru/index.php?option=com_eventlist&view=details&id=6
 06:l--r-&Itemid=117
END:VEVENT
END:VCALENDAR
