BEGIN:VCALENDAR
CALSCALE:GREGORIAN
METHOD:PUBLISH
PRODID:-//5.199.133.97//NONSGML iCalcreator 2.6//
VERSION:2.0
UNIQUE_ID:event645@Йога секреты
X-WR-TIMEZONE:Asia/Baku
BEGIN:VEVENT
UID:event645@Йога секреты
DTSTAMP:20260421T153855Z
CATEGORIES:Лекции
DESCRIPTION:Осознанное и здоровое питание в ус
 ловиях мегаполиса\nТип события: Лекции \n
 сылка: https://yogasecrets.ru/index.php?option=com_eventlist&view=de
 tails&id=645:------&Itemid=117\n
DTSTART;VALUE=DATE:20140427
DTEND;VALUE=DATE:20140428
LOCATION:
SUMMARY:Осознанное и здоровое питание в усло
 виях мегаполиса
URL:https://yogasecrets.ru/index.php?option=com_eventlist&view=details&id=6
 45:------&Itemid=117
END:VEVENT
END:VCALENDAR
