BEGIN:VCALENDAR
CALSCALE:GREGORIAN
METHOD:PUBLISH
PRODID:-//5.199.133.97//NONSGML iCalcreator 2.6//
VERSION:2.0
UNIQUE_ID:event651@Йога секреты
X-WR-TIMEZONE:Asia/Baku
BEGIN:VEVENT
UID:event651@Йога секреты
DTSTAMP:20260421T141643Z
CATEGORIES:Лекции
DESCRIPTION:ПУТЬ ЙОГИ-от физического к духовно
 му\nТип события: Лекции \nСсылка: https://yogasecr
 ets.ru/index.php?option=com_eventlist&view=details&id=651:-----&Itemid=117
 \n
DTSTART;TZID=Asia/Baku:20140428T190000
DTEND;TZID=Asia/Baku:20140428T203000
LOCATION:Центр 'Благодарение'\, м.Тверская (5 м
 нут )\,Б.Гнездниковский пер.\, д.10\,Москва\,
 Russian Federation
SUMMARY:ПУТЬ ЙОГИ-от физического к духовному
URL:https://yogasecrets.ru/index.php?option=com_eventlist&view=details&id=6
 51:-----&Itemid=117
END:VEVENT
END:VCALENDAR
