BEGIN:VCALENDAR
CALSCALE:GREGORIAN
METHOD:PUBLISH
PRODID:-//5.199.133.97//NONSGML iCalcreator 2.6//
VERSION:2.0
UNIQUE_ID:event719@Йога секреты
X-WR-TIMEZONE:Asia/Baku
BEGIN:VEVENT
UID:event719@Йога секреты
DTSTAMP:20260421T203554Z
CATEGORIES:Лекции
DESCRIPTION:Семинар 'ФОРМУЛА МОЛОДОСТИ'!\nТип с
 бытия: Лекции \nСсылка: https://yogasecrets.ru/index.php
 ?option=com_eventlist&view=details&id=719:-q-q&Itemid=117\n
DTSTART;TZID=Asia/Baku:20140730T190000
DTEND;TZID=Asia/Baku:20140730T210000
LOCATION:
SUMMARY:Семинар 'ФОРМУЛА МОЛОДОСТИ'!
URL:https://yogasecrets.ru/index.php?option=com_eventlist&view=details&id=7
 19:-q-q&Itemid=117
END:VEVENT
END:VCALENDAR
