BEGIN:VCALENDAR
CALSCALE:GREGORIAN
METHOD:PUBLISH
PRODID:-//5.199.133.97//NONSGML iCalcreator 2.6//
VERSION:2.0
UNIQUE_ID:event745@Йога секреты
X-WR-TIMEZONE:Asia/Baku
BEGIN:VEVENT
UID:event745@Йога секреты
DTSTAMP:20260422T001358Z
CATEGORIES:Лекции
DESCRIPTION:Семинар Марка Сандомирского «Псих
 осоматика в йоге»\nТип события: Лекции \nС
 сылка: https://yogasecrets.ru/index.php?option=com_eventlist&view=det
 ails&id=745:---l--r&Itemid=117\n
DTSTART;TZID=Asia/Baku:20140919T190000
DTEND;TZID=Asia/Baku:20140919T220000
LOCATION:Школа Каула йоги м. Семеновская\,Сем
 новская площадь\, д. 7\,Москва\,Russian Federation
SUMMARY:Семинар Марка Сандомирского «Психос
 оматика в йоге»
URL:https://yogasecrets.ru/index.php?option=com_eventlist&view=details&id=7
 45:---l--r&Itemid=117
END:VEVENT
END:VCALENDAR
