BEGIN:VCALENDAR
CALSCALE:GREGORIAN
METHOD:PUBLISH
PRODID:-//5.199.133.97//NONSGML iCalcreator 2.6//
VERSION:2.0
UNIQUE_ID:event782@Йога секреты
X-WR-TIMEZONE:Asia/Baku
BEGIN:VEVENT
UID:event782@Йога секреты
DTSTAMP:20260422T001358Z
CATEGORIES:Лекции
DESCRIPTION:Мастерская Эмоций - улучши свою жи
 нь\nТип события: Лекции \nСсылка: https://yogasec
 rets.ru/index.php?option=com_eventlist&view=details&id=782:----&Itemid=117
 \n
DTSTART;TZID=Asia/Baku:20140914T160000
DTEND;TZID=Asia/Baku:20140914T200000
LOCATION:Студия йоги 'День Радости'\,Большой Т
 ишинский переулок д. 43/20\, \,Москва\,Russian Fede
 ration
SUMMARY:Мастерская Эмоций - улучши свою жизн
 
URL:https://yogasecrets.ru/index.php?option=com_eventlist&view=details&id=7
 82:----&Itemid=117
END:VEVENT
END:VCALENDAR
