BEGIN:VCALENDAR
CALSCALE:GREGORIAN
METHOD:PUBLISH
PRODID:-//5.199.133.97//NONSGML iCalcreator 2.6//
VERSION:2.0
UNIQUE_ID:event813@Йога секреты
X-WR-TIMEZONE:Asia/Baku
BEGIN:VEVENT
UID:event813@Йога секреты
DTSTAMP:20260422T001702Z
CATEGORIES:Лекции
DESCRIPTION:Бесплатная лекция по истории точе
 ного МАРМА-МАССАЖА\nТип события: Лекции 
 \nСсылка: https://yogasecrets.ru/index.php?option=com_eventlist&view
 =details&id=813:------&Itemid=117\n
DTSTART;TZID=Asia/Baku:20141015T190000
DTEND;TZID=Asia/Baku:20141015T210000
LOCATION:Центр аюрведы и йоги 'Керала'\,Мичури
 нский проспект\,3\,Москва\,Russian Federation
SUMMARY:Бесплатная лекция по истории точечн
 го МАРМА-МАССАЖА
URL:https://yogasecrets.ru/index.php?option=com_eventlist&view=details&id=8
 13:------&Itemid=117
END:VEVENT
END:VCALENDAR
