BEGIN:VCALENDAR
CALSCALE:GREGORIAN
METHOD:PUBLISH
PRODID:-//5.199.133.97//NONSGML iCalcreator 2.6//
VERSION:2.0
UNIQUE_ID:event821@Йога секреты
X-WR-TIMEZONE:Asia/Baku
BEGIN:VEVENT
UID:event821@Йога секреты
DTSTAMP:20260421T165939Z
CATEGORIES:Лекции
DESCRIPTION:Теория и практика Пранаямы\nТип со
 ытия: Лекции \nСсылка: https://yogasecrets.ru/index.php?o
 ption=com_eventlist&view=details&id=821:---&Itemid=117\n
DTSTART;VALUE=DATE:20150309
DTEND;VALUE=DATE:20150310
LOCATION:
SUMMARY:Теория и практика Пранаямы
URL:https://yogasecrets.ru/index.php?option=com_eventlist&view=details&id=8
 21:---&Itemid=117
END:VEVENT
END:VCALENDAR
