BEGIN:VCALENDAR
CALSCALE:GREGORIAN
METHOD:PUBLISH
PRODID:-//5.199.133.97//NONSGML iCalcreator 2.6//
VERSION:2.0
UNIQUE_ID:event823@Йога секреты
X-WR-TIMEZONE:Asia/Baku
BEGIN:VEVENT
UID:event823@Йога секреты
DTSTAMP:20260422T013637Z
CATEGORIES:Лекции
DESCRIPTION:История и философия йоги. Классиче
 ские тексты. Первоисточник\nТип события: 
 Лекции \nСсылка: https://yogasecrets.ru/index.php?option=com_e
 ventlist&view=details&id=823:------&Itemid=117\n
DTSTART;VALUE=DATE:20141110
DTEND;VALUE=DATE:20141114
LOCATION:
SUMMARY:История и философия йоги. Классическ
 ие тексты. Первоисточник
URL:https://yogasecrets.ru/index.php?option=com_eventlist&view=details&id=8
 23:------&Itemid=117
END:VEVENT
END:VCALENDAR
