BEGIN:VCALENDAR
CALSCALE:GREGORIAN
METHOD:PUBLISH
PRODID:-//5.199.133.97//NONSGML iCalcreator 2.6//
VERSION:2.0
UNIQUE_ID:event831@Йога секреты
X-WR-TIMEZONE:Asia/Baku
BEGIN:VEVENT
UID:event831@Йога секреты
DTSTAMP:20260422T012732Z
CATEGORIES:Лекции
DESCRIPTION:Семинар: «Майсурский метод Кришна
 ачарьи и его развитие в в\nТип события: Л
 кции \nСсылка: https://yogasecrets.ru/index.php?option=com_even
 tlist&view=details&id=831:-l-------&Itemid=117\n
DTSTART;TZID=Asia/Baku:20141129T150000
DTEND;TZID=Asia/Baku:20141129T190000
LOCATION:
SUMMARY:Семинар: «Майсурский метод Кришнама
 арьи и его развитие в в
URL:https://yogasecrets.ru/index.php?option=com_eventlist&view=details&id=8
 31:-l-------&Itemid=117
END:VEVENT
END:VCALENDAR
