BEGIN:VCALENDAR
CALSCALE:GREGORIAN
METHOD:PUBLISH
PRODID:-//5.199.133.97//NONSGML iCalcreator 2.6//
VERSION:2.0
UNIQUE_ID:event832@Йога секреты
X-WR-TIMEZONE:Asia/Baku
BEGIN:VEVENT
UID:event832@Йога секреты
DTSTAMP:20260422T012723Z
CATEGORIES:Лекции
DESCRIPTION:Семинар: Майсурский метод Кришнам
 чарьи и его развитие в АЙ\nТип события: Л
 кции \nСсылка: https://yogasecrets.ru/index.php?option=com_even
 tlist&view=details&id=832:--------&Itemid=117\n
DTSTART;TZID=Asia/Baku:20141129T150000
DTEND;TZID=Asia/Baku:20141129T190000
LOCATION:
SUMMARY:Семинар: Майсурский метод Кришнамач
 рьи и его развитие в АЙ
URL:https://yogasecrets.ru/index.php?option=com_eventlist&view=details&id=8
 32:--------&Itemid=117
END:VEVENT
END:VCALENDAR
