BEGIN:VCALENDAR
CALSCALE:GREGORIAN
METHOD:PUBLISH
PRODID:-//5.199.133.97//NONSGML iCalcreator 2.6//
VERSION:2.0
UNIQUE_ID:event833@Йога секреты
X-WR-TIMEZONE:Asia/Baku
BEGIN:VEVENT
UID:event833@Йога секреты
DTSTAMP:20260422T013458Z
CATEGORIES:Лекции
DESCRIPTION:Лекция«Образы Шри Тирумалая Кришн
 амачарьи'\nТип события: Лекции \nСсылка: htt
 ps://yogasecrets.ru/index.php?option=com_eventlist&view=details&id=833:l--
 -q&Itemid=117\n
DTSTART;TZID=Asia/Baku:20141115T150000
DTEND;TZID=Asia/Baku:20141115T190000
LOCATION:
SUMMARY:Лекция«Образы Шри Тирумалая Кришнам
 ачарьи'
URL:https://yogasecrets.ru/index.php?option=com_eventlist&view=details&id=8
 33:l---q&Itemid=117
END:VEVENT
END:VCALENDAR
