BEGIN:VCALENDAR
CALSCALE:GREGORIAN
METHOD:PUBLISH
PRODID:-//5.199.133.97//NONSGML iCalcreator 2.6//
VERSION:2.0
UNIQUE_ID:event837@Йога секреты
X-WR-TIMEZONE:Asia/Baku
BEGIN:VEVENT
UID:event837@Йога секреты
DTSTAMP:20260422T011639Z
CATEGORIES:Лекции
DESCRIPTION:Сатсанг 'Пробуждение' Москва\nТип с
 обытия: Лекции \nСсылка: https://yogasecrets.ru/index.ph
 p?option=com_eventlist&view=details&id=837:-qq-&Itemid=117\n
DTSTART;TZID=Asia/Baku:20141107T110000
DTEND;TZID=Asia/Baku:20141109T150000
LOCATION:Йога-клуб 'Таттва'\,Летниковская\, 6А\,
 Москва
SUMMARY:Сатсанг 'Пробуждение' Москва
URL:https://yogasecrets.ru/index.php?option=com_eventlist&view=details&id=8
 37:-qq-&Itemid=117
END:VEVENT
END:VCALENDAR
