BEGIN:VCALENDAR
CALSCALE:GREGORIAN
METHOD:PUBLISH
PRODID:-//5.199.133.97//NONSGML iCalcreator 2.6//
VERSION:2.0
UNIQUE_ID:event840@Йога секреты
X-WR-TIMEZONE:Asia/Baku
BEGIN:VEVENT
UID:event840@Йога секреты
DTSTAMP:20260422T013458Z
CATEGORIES:Лекции
DESCRIPTION:'Йога - искусство жизни в современн
 ом мегаполисе'\nТип события: Лекции \nСсыл
 ка: https://yogasecrets.ru/index.php?option=com_eventlist&view=details&i
 d=840:q-----q&Itemid=117\n
DTSTART;TZID=Asia/Baku:20141123T160000
DTEND;TZID=Asia/Baku:20141123T174500
LOCATION:
SUMMARY:'Йога - искусство жизни в современном
  мегаполисе'
URL:https://yogasecrets.ru/index.php?option=com_eventlist&view=details&id=8
 40:q-----q&Itemid=117
END:VEVENT
END:VCALENDAR
