BEGIN:VCALENDAR
CALSCALE:GREGORIAN
METHOD:PUBLISH
PRODID:-//5.199.133.97//NONSGML iCalcreator 2.6//
VERSION:2.0
UNIQUE_ID:event882@Йога секреты
X-WR-TIMEZONE:Asia/Baku
BEGIN:VEVENT
UID:event882@Йога секреты
DTSTAMP:20260422T013947Z
CATEGORIES:Лекции
DESCRIPTION:Выставка Янтр и открытая лекция ве
 дического астролога\, 4.12\nТип события: Ле
 ции \nСсылка: https://yogasecrets.ru/index.php?option=com_eventl
 ist&view=details&id=882:-------412&Itemid=117\n
DTSTART;TZID=Asia/Baku:20141204T183000
DTEND;TZID=Asia/Baku:20141204T203000
LOCATION:Центр аюрведы и йоги 'Керала'\,Мичури
 нский проспект\,3\,Москва\,Russian Federation
SUMMARY:Выставка Янтр и открытая лекция веди
 ческого астролога\, 4.12
URL:https://yogasecrets.ru/index.php?option=com_eventlist&view=details&id=8
 82:-------412&Itemid=117
END:VEVENT
END:VCALENDAR
