BEGIN:VCALENDAR
CALSCALE:GREGORIAN
METHOD:PUBLISH
PRODID:-//5.199.133.97//NONSGML iCalcreator 2.6//
VERSION:2.0
UNIQUE_ID:event902@Йога секреты
X-WR-TIMEZONE:Asia/Baku
BEGIN:VEVENT
UID:event902@Йога секреты
DTSTAMP:20260422T220254Z
CATEGORIES:Лекции
DESCRIPTION:Расширенный курс по йогатерапии п
 звоночника\nТип события: Лекции \nСсылка:
  https://yogasecrets.ru/index.php?option=com_eventlist&view=details&id=902
 :----&Itemid=117\n
DTSTART;VALUE=DATE:20150117
DTEND;VALUE=DATE:20150126
LOCATION:
SUMMARY:Расширенный курс по йогатерапии поз
 оночника
URL:https://yogasecrets.ru/index.php?option=com_eventlist&view=details&id=9
 02:----&Itemid=117
END:VEVENT
END:VCALENDAR
