BEGIN:VCALENDAR
CALSCALE:GREGORIAN
METHOD:PUBLISH
PRODID:-//5.199.133.97//NONSGML iCalcreator 2.6//
VERSION:2.0
UNIQUE_ID:event906@Йога секреты
X-WR-TIMEZONE:Asia/Baku
BEGIN:VEVENT
UID:event906@Йога секреты
DTSTAMP:20260421T184106Z
CATEGORIES:Лекции \, Курс обучения
DESCRIPTION:Годовая программа обучения по йог
 \nТип события: Лекции \, Курс обучения\nСс
 лка: https://yogasecrets.ru/index.php?option=com_eventlist&view=detail
 s&id=906:----&Itemid=117\n
DTSTART;VALUE=DATE:20150207
DTEND;VALUE=DATE:20151116
LOCATION:
SUMMARY:Годовая программа обучения по йоге
URL:https://yogasecrets.ru/index.php?option=com_eventlist&view=details&id=9
 06:----&Itemid=117
END:VEVENT
END:VCALENDAR
