BEGIN:VCALENDAR
CALSCALE:GREGORIAN
METHOD:PUBLISH
PRODID:-//5.199.133.97//NONSGML iCalcreator 2.6//
VERSION:2.0
UNIQUE_ID:event945@Йога секреты
X-WR-TIMEZONE:Asia/Baku
BEGIN:VEVENT
UID:event945@Йога секреты
DTSTAMP:20260421T152552Z
CATEGORIES:Лекции \, Курс обучения\, Практикум
DESCRIPTION:Хатха-йога и нетрадиционные метод
  оздоровления\nТип события: Лекции \, Кур
  обучения\, Практикум\nСсылка: https://yogasecrets
 .ru/index.php?option=com_eventlist&view=details&id=945:-----&Itemid=117\n
DTSTART;VALUE=DATE:20150411
DTEND;VALUE=DATE:20150713
LOCATION:
SUMMARY:Хатха-йога и нетрадиционные методы о
 здоровления
URL:https://yogasecrets.ru/index.php?option=com_eventlist&view=details&id=9
 45:-----&Itemid=117
END:VEVENT
END:VCALENDAR
