BEGIN:VCALENDAR
CALSCALE:GREGORIAN
METHOD:PUBLISH
PRODID:-//5.199.133.97//NONSGML iCalcreator 2.6//
VERSION:2.0
UNIQUE_ID:event964@Йога секреты
X-WR-TIMEZONE:Asia/Baku
BEGIN:VEVENT
UID:event964@Йога секреты
DTSTAMP:20260421T184201Z
CATEGORIES:Лекции
DESCRIPTION:Ах\, эта индийская свадьба! Лекция 
  древней традиции\nТип события: Лекции \n
 сылка: https://yogasecrets.ru/index.php?option=com_eventlist&view=de
 tails&id=964:-------&Itemid=117\n
DTSTART;TZID=Asia/Baku:20150214T160000
DTEND;TZID=Asia/Baku:20150214T173000
LOCATION:Центр аюрведы и йоги 'Керала'\,Мичури
 нский проспект\,3\,Москва\,Russian Federation
SUMMARY:Ах\, эта индийская свадьба! Лекция о д
 ревней традиции
URL:https://yogasecrets.ru/index.php?option=com_eventlist&view=details&id=9
 64:-------&Itemid=117
END:VEVENT
END:VCALENDAR
